BEGIN:VCALENDAR
VERSION:2.0
PRODID:-//DiverDonScuba - ECPv6.13.2.1//NONSGML v1.0//EN
CALSCALE:GREGORIAN
METHOD:PUBLISH
X-ORIGINAL-URL:https://diverdonscuba.com
X-WR-CALDESC:Events for DiverDonScuba
REFRESH-INTERVAL;VALUE=DURATION:PT1H
X-Robots-Tag:noindex
X-PUBLISHED-TTL:PT1H
BEGIN:VTIMEZONE
TZID:UTC
BEGIN:STANDARD
TZOFFSETFROM:+0000
TZOFFSETTO:+0000
TZNAME:UTC
DTSTART:20180101T000000
END:STANDARD
END:VTIMEZONE
BEGIN:VTIMEZONE
TZID:Asia/Karachi
BEGIN:STANDARD
TZOFFSETFROM:+0500
TZOFFSETTO:+0500
TZNAME:PKT
DTSTART:20180101T000000
END:STANDARD
END:VTIMEZONE
BEGIN:VEVENT
DTSTART;VALUE=DATE:20180720
DTEND;VALUE=DATE:20180722
DTSTAMP:20260423T152547
CREATED:20171230T220302Z
LAST-MODIFIED:20171230T220508Z
UID:504-1532044800-1532217599@diverdonscuba.com
SUMMARY:Lake Wazee Wisconsin Dive
DESCRIPTION:Join fellow divers from Michigan\, Wisconsin and Minnesota as we descend on Lake Wazee for a get together featuring both and modern and vintage gear spanning 7 decades. Stay tuned for details or contact us for more information. \nHere is a LDS that rents gear and offers tank fills. https://wazeesports.com/
URL:https://diverdonscuba.com/event/lake-wazee-wisconsin-dive/
LOCATION:MI
END:VEVENT
BEGIN:VEVENT
DTSTART;TZID=UTC:20180324T100000
DTEND;TZID=UTC:20180325T150000
DTSTAMP:20260423T152547
CREATED:20180316T120558Z
LAST-MODIFIED:20180316T120558Z
UID:576-1521885600-1521990000@diverdonscuba.com
SUMMARY:Ice Diving with Scuba Scott
DESCRIPTION:This is a PADI course held Saturday and Sunday. Advanced Diver certification is required. Gear rental included.
URL:https://diverdonscuba.com/event/ice-diving-with-scuba-scott/
LOCATION:Bristol Pit\, Crystal Falls\, MI\, 49920
ORGANIZER;CN="Scott Thomas":MAILTO:sthomas@nmu.edu
END:VEVENT
BEGIN:VEVENT
DTSTART;TZID=Asia/Karachi:20180302T170000
DTEND;TZID=Asia/Karachi:20180310T170000
DTSTAMP:20260423T152547
CREATED:20171228T161336Z
LAST-MODIFIED:20171228T164235Z
UID:434-1520010000-1520701200@diverdonscuba.com
SUMMARY:Bonaire 2018
DESCRIPTION:Description\nWHAT:  Faculty Lead Study Abroad Course to the island of Bonaire\, the scuba diving capital of the Caribbean.  Expand your diving skills and experience the warm\, clear waters of the Caribbean while earning your Master Scuba Diver certification (the highest rating possible for recreational divers).  During the course\, you’ll receive the following certifications:  Advanced Open Water\, Rescue Diver\, Equipment Specialist\, Enriched Air Nitrox\, Deep Diver\, Wreck Diver\, Night Diver and Master Scuba Diver.  \n \nWHERE:  Bonaire\, Netherlands Antilles.  Located just north of Venezuela\, Bonaire is part of the “ABC” islands consisting of Aruba\, Bonaire and Curacao.  The island enjoys a year round air temperature of approximately 80 degrees with water temps ranging from 78-86 degrees.  In addition to world class scuba diving\, Bonaire is also a premiere destination for windsurfing and kiteboarding due to the constant trade winds.  The island also hosts a national bird sanctuary\, nesting grounds for all four species of sea turtles found in the Caribbean and many other topside attractions.  There’s plenty to do when you’re not diving \nWHEN:  Travel dates are March 2 – March 11\, 2018.   \nWHO IS ELIGIBLE: This course is open to anyone who is a certified Scuba Diver.  You must be certified AT LEAST as an Open Water/Beginner Diver before March 2017.  \n \nfOR MORE Information such as how to apply\, group meetings\, deadlines\, etc. contact us at: info@diverdonscuba.com
URL:https://diverdonscuba.com/event/bonaire-2018/
LOCATION:MI
END:VEVENT
BEGIN:VEVENT
DTSTART;TZID=UTC:20180217T100000
DTEND;TZID=UTC:20180218T170000
DTSTAMP:20260423T152547
CREATED:20171229T153923Z
LAST-MODIFIED:20171229T153923Z
UID:471-1518861600-1518973200@diverdonscuba.com
SUMMARY:Our World Underwater Chicago
DESCRIPTION:With over 50 seminars\, a Convention Center full of booths from SCUBA stores\, Manufactures\, travel destinations apparel and jewelry\, this is one of the largest events for the Scuba industry in the Mid-west. If you plan to attend the Saturday evening film festival\, which begins at 7 PM\, purchase your tickets in advance because seating is limited. We have put together a phenomenal line up for your viewing. \nhttps://ourworldunderwater.com/Chicago/
URL:https://diverdonscuba.com/event/our-world-underwater-chicago/
LOCATION:MI
END:VEVENT
BEGIN:VEVENT
DTSTART;TZID=UTC:20180108T020000
DTEND;TZID=UTC:20180108T160000
DTSTAMP:20260423T152547
CREATED:20180104T151840Z
LAST-MODIFIED:20180104T151840Z
UID:552-1515376800-1515427200@diverdonscuba.com
SUMMARY:Open Water Dive
DESCRIPTION:Interest has been expressed by a couple divers to do a dive on the 8th. The location will be determined closer to the event due to ice and weather. \nUse the contact form and leave a message if you are interested if joining in. Some gear will be available on a first come first served basis.
URL:https://diverdonscuba.com/event/open-water-dive/
LOCATION:Lake Superior\, Wherever open water can be found\, Marquette\, MI\, 49855\, United States
END:VEVENT
BEGIN:VEVENT
DTSTART;TZID=Asia/Karachi:20180101T100000
DTEND;TZID=Asia/Karachi:20180101T230000
DTSTAMP:20260423T152547
CREATED:20171228T024627Z
LAST-MODIFIED:20180105T155239Z
UID:426-1514800800-1514847600@diverdonscuba.com
SUMMARY:New Years Day Dive
DESCRIPTION:Marquette Scuba Divers make their annual New Years Day dive at one of their favorite shore dive sites in order to ensure that bragging rites\, for being the first in Lake Superior\, remain theirs. Pictured here are the partakers of this event from last year. The air temp is forecast to be in the single digit territory and the wind chill somewhere between 25 to 30 below\, this is not an event for the feint of heart. The water however\, should remain a balmy 39 degrees\, give or take.
URL:https://diverdonscuba.com/event/new-years-day-dive/
LOCATION:Lake Superior\, Wherever open water can be found\, Marquette\, MI\, 49855\, United States
ORGANIZER;CN="Don":MAILTO:info@diverdonscuba.com
END:VEVENT
END:VCALENDAR